BEGIN:VCALENDAR
VERSION:2.0
PRODID:Imitheme.com 
BEGIN:VEVENT
UID:20260421T094323958946151
DTSTAMP;TZID=UTC:2026-04-21 09:43:23
DTSTART;TZID=America/Los_Angeles:20250918T000000
DTEND;TZID=America/Los_Angeles:20250918T000000
SUMMARY:E Member Check In (Zoom)
LOCATION:
DESCRIPTION:
URL:https://wogintmin.org/eventer/e-member-check-in-zoom/
END:VEVENT
END:VCALENDAR
